BEGIN:VCALENDAR
VERSION:2.0
PRODID:-//Homeward Trails Animal Rescue | Pet Adoption in VA, DC, MD - ECPv6.15.20//NONSGML v1.0//EN
CALSCALE:GREGORIAN
METHOD:PUBLISH
X-ORIGINAL-URL:https://www.homewardtrails.org
X-WR-CALDESC:Events for Homeward Trails Animal Rescue | Pet Adoption in VA, DC, MD
REFRESH-INTERVAL;VALUE=DURATION:PT1H
X-Robots-Tag:noindex
X-PUBLISHED-TTL:PT1H
BEGIN:VTIMEZONE
TZID:America/New_York
BEGIN:DAYLIGHT
TZOFFSETFROM:-0500
TZOFFSETTO:-0400
TZNAME:EDT
DTSTART:20250309T070000
END:DAYLIGHT
BEGIN:STANDARD
TZOFFSETFROM:-0400
TZOFFSETTO:-0500
TZNAME:EST
DTSTART:20251102T060000
END:STANDARD
BEGIN:DAYLIGHT
TZOFFSETFROM:-0500
TZOFFSETTO:-0400
TZNAME:EDT
DTSTART:20260308T070000
END:DAYLIGHT
BEGIN:STANDARD
TZOFFSETFROM:-0400
TZOFFSETTO:-0500
TZNAME:EST
DTSTART:20261101T060000
END:STANDARD
BEGIN:DAYLIGHT
TZOFFSETFROM:-0500
TZOFFSETTO:-0400
TZNAME:EDT
DTSTART:20270314T070000
END:DAYLIGHT
BEGIN:STANDARD
TZOFFSETFROM:-0400
TZOFFSETTO:-0500
TZNAME:EST
DTSTART:20271107T060000
END:STANDARD
END:VTIMEZONE
BEGIN:VEVENT
DTSTART;TZID=America/New_York:20260321T100000
DTEND;TZID=America/New_York:20260322T160000
DTSTAMP:20260423T084011
CREATED:20260319T173706Z
LAST-MODIFIED:20260319T202824Z
UID:10000450-1774087200-1774195200@www.homewardtrails.org
SUMMARY:Dog and Cat Adoption Hours
DESCRIPTION:Come visit the Homeward Trails Adoption Center every Saturday and Sunday (dogs 10 a.m. to 4 p.m.\, cats 10 a.m. to 3 p.m.) to meet great cats and dogs available for adoption. \nThese animals are excited to meet you!\n \nDOGS\nBandit	https://bit.ly/Adopt-Bandit-Pup\nMagnolia	https://bit.ly/HT-Magnolia\nCaesar	https://bit.ly/Adopt-Caesar-Pup\nScout	https://bit.ly/HT-Scout\nCole	https://bit.ly/Adopt-Cole-Pup\nNala	https://bit.ly/Adopt-Nala-Pup\nDomino	https://bit.ly/HT-Domino\nCupid	https://bit.ly/HT-Cupid\nDomingo	https://bit.ly/Adopt-Domingo\nHomer	https://bit.ly/Adopt-Homer-Pup\nReese	https://bit.ly/Adopt-Reese-Pup\nHelena	https://bit.ly/Adopt-Helena-Pup\nSam	https://bit.ly/Adopt-Sam-Pup\nZero	https://bit.ly/Adopt-Zero-Pup\nDee Dee	https://bit.ly/Adopt-DeeDee-Pup\nDaisy	https://bit.ly/Adopt-Daisy-Pup \nCATS\nZiggy	https://bit.ly/Adopt-Ziggy-Cat\nLittle Church	https://bit.ly/Adopt-Little-Church-Cat\nGrey	https://bit.ly/Adopt-Grey-Cat\nRan	https://bit.ly/Adopt-Ran-Cat\nShiniChi	https://bit.ly/Adopt-Shinichi-Cat
URL:https://www.homewardtrails.org/event/dog-and-cat-adoption-hours-7-3-9/
LOCATION:Homeward Trails Manny Law Adoption Center\, 11116 Fairfax Station Rd\, Fairfax Station\, VA\, 22039\, United States
CATEGORIES:Cat Adoption Events,Dog Adoption Events
END:VEVENT
BEGIN:VEVENT
DTSTART;TZID=America/New_York:20260321T120000
DTEND;TZID=America/New_York:20260321T140000
DTSTAMP:20260423T084011
CREATED:20260318T234231Z
LAST-MODIFIED:20260319T202112Z
UID:10002890-1774094400-1774101600@www.homewardtrails.org
SUMMARY:Join us for a cat & dog adoption event @ Petco (Fairfax)!
DESCRIPTION:Come meet some adorable\, adoptable cats and dogs! \n \nDOGS \nBuffy	https://bit.ly/Adopt-Buffy-Pup\nLolita	https://bit.ly/Adopt-Lolita-Pup\nTommy	https://bit.ly/Adopt-Tommy-Pup \nCATS \nTom	https://bit.ly/Adopt-Tom-Cat\nJerry	https://bit.ly/Adopt-Jerry-Cat\nLola	https://bit.ly/Adopt-Lola-Cat\nPatches	https://bit.ly/Adopt-Patches-Cat\nPenny	https://bit.ly/Adopt-Penny-Cat\nMargaret	https://bit.ly/Adopt-Margaret-Cat\nMidge	https://bit.ly/Adopt-Midge-Cat
URL:https://www.homewardtrails.org/event/join-us-for-a-cat-dog-adoption-event-petco-fairfax/
LOCATION:Petco Fairfax\, 10708 Fairfax Blvd\,\, Fairfax\, VA\, 22030
END:VEVENT
END:VCALENDAR