BEGIN:VCALENDAR
VERSION:2.0
PRODID:-//Homeward Trails Animal Rescue | Pet Adoption in VA, DC, MD - ECPv6.15.20//NONSGML v1.0//EN
CALSCALE:GREGORIAN
METHOD:PUBLISH
X-ORIGINAL-URL:https://www.homewardtrails.org
X-WR-CALDESC:Events for Homeward Trails Animal Rescue | Pet Adoption in VA, DC, MD
REFRESH-INTERVAL;VALUE=DURATION:PT1H
X-Robots-Tag:noindex
X-PUBLISHED-TTL:PT1H
BEGIN:VTIMEZONE
TZID:America/New_York
BEGIN:DAYLIGHT
TZOFFSETFROM:-0500
TZOFFSETTO:-0400
TZNAME:EDT
DTSTART:20230312T070000
END:DAYLIGHT
BEGIN:STANDARD
TZOFFSETFROM:-0400
TZOFFSETTO:-0500
TZNAME:EST
DTSTART:20231105T060000
END:STANDARD
BEGIN:DAYLIGHT
TZOFFSETFROM:-0500
TZOFFSETTO:-0400
TZNAME:EDT
DTSTART:20240310T070000
END:DAYLIGHT
BEGIN:STANDARD
TZOFFSETFROM:-0400
TZOFFSETTO:-0500
TZNAME:EST
DTSTART:20241103T060000
END:STANDARD
BEGIN:DAYLIGHT
TZOFFSETFROM:-0500
TZOFFSETTO:-0400
TZNAME:EDT
DTSTART:20250309T070000
END:DAYLIGHT
BEGIN:STANDARD
TZOFFSETFROM:-0400
TZOFFSETTO:-0500
TZNAME:EST
DTSTART:20251102T060000
END:STANDARD
END:VTIMEZONE
BEGIN:VEVENT
DTSTART;TZID=America/New_York:20240504T100000
DTEND;TZID=America/New_York:20240504T160000
DTSTAMP:20260422T203251
CREATED:20230429T221503Z
LAST-MODIFIED:20250410T030057Z
UID:10000254-1714816800-1714838400@www.homewardtrails.org
SUMMARY:Dog and Cat Adoption Hours
DESCRIPTION:Come visit the Homeward Trails Adoption Center every Saturday and Sunday to meet great cats and dogs available for adoption.
URL:https://www.homewardtrails.org/event/dog-and-cat-adoption-hours/2024-05-04/
LOCATION:Homeward Trails Manny Law Adoption Center\, 11116 Fairfax Station Rd\, Fairfax Station\, VA\, 22039\, United States
CATEGORIES:Cat Adoption Events,Dog Adoption Events
END:VEVENT
BEGIN:VEVENT
DTSTART;TZID=America/New_York:20240504T120000
DTEND;TZID=America/New_York:20240504T160000
DTSTAMP:20260422T203251
CREATED:20240310T155735Z
LAST-MODIFIED:20240310T155735Z
UID:10001725-1714824000-1714838400@www.homewardtrails.org
SUMMARY:Paws In The Village- Pet Festival!
DESCRIPTION:Join Homeward Trails along with many other fun vendors at this fun family event\, bringing together rescue organizations\, local pet focused businesses\, and pet owners. There will be family activities throughout the entire center for the duration of the event. Stop on by\, you just might meet your new best friend!
URL:https://www.homewardtrails.org/event/paws-in-the-village-pet-festival-2/
LOCATION:Village at Leesburg\, 1602 Village Market Blvd\, Leesburg\, VA\, 20175\, United States
END:VEVENT
BEGIN:VEVENT
DTSTART;TZID=America/New_York:20240504T140000
DTEND;TZID=America/New_York:20240504T170000
DTSTAMP:20260422T203251
CREATED:20240419T134940Z
LAST-MODIFIED:20240419T134940Z
UID:10001728-1714831200-1714842000@www.homewardtrails.org
SUMMARY:Lost Barrel Brewing - TVRG Homes Client Appreciation Event
DESCRIPTION:Join Homeward Trails and our friends\, TVRG homes at their client appreciation event at Lost Barrel Brewery in Middleburg. We will have adoptable pups on site ready for your applications from 3-5 PM! Come grab a brew\, show your support and maybe meet your new best friend!!
URL:https://www.homewardtrails.org/event/lost-barrel-brewing-tvrg-homes-client-appreciation-event/
LOCATION:Lost Barrel Brewing\, 36138 Little River Tpke\, Middleburg\, VA\, 20117\, United States
CATEGORIES:Dog Adoption Events
END:VEVENT
BEGIN:VEVENT
DTSTART;TZID=America/New_York:20240505T100000
DTEND;TZID=America/New_York:20240505T160000
DTSTAMP:20260422T203251
CREATED:20230429T221503Z
LAST-MODIFIED:20250410T030057Z
UID:10000255-1714903200-1714924800@www.homewardtrails.org
SUMMARY:Dog and Cat Adoption Hours
DESCRIPTION:Come visit the Homeward Trails Adoption Center every Saturday and Sunday to meet great cats and dogs available for adoption.
URL:https://www.homewardtrails.org/event/dog-and-cat-adoption-hours/2024-05-05/
LOCATION:Homeward Trails Manny Law Adoption Center\, 11116 Fairfax Station Rd\, Fairfax Station\, VA\, 22039\, United States
CATEGORIES:Cat Adoption Events,Dog Adoption Events
END:VEVENT
BEGIN:VEVENT
DTSTART;TZID=America/New_York:20240508T183000
DTEND;TZID=America/New_York:20240508T193000
DTSTAMP:20260422T203251
CREATED:20231105T134133Z
LAST-MODIFIED:20231105T134134Z
UID:10001423-1715193000-1715196600@www.homewardtrails.org
SUMMARY:All About Separation Anxiety Training
DESCRIPTION: All About Separation Anxiety -Preventing It & Addressing It\, Zoom training with Alexandra  Dilley\, CPDT-KA \nLearn more about Alexandra and her business Home Alone Canine at https://www.homealonecanine.com/ \nJoin here. \nMeeting ID: 872 9209 2545\nPasscode: 266003
URL:https://www.homewardtrails.org/event/all-about-separation-anxiety-training-2/2024-05-08/
LOCATION:VA
CATEGORIES:Orientations & Trainings
END:VEVENT
BEGIN:VEVENT
DTSTART;TZID=America/New_York:20240511T100000
DTEND;TZID=America/New_York:20240511T160000
DTSTAMP:20260422T203251
CREATED:20230429T221503Z
LAST-MODIFIED:20250410T030057Z
UID:10000256-1715421600-1715443200@www.homewardtrails.org
SUMMARY:Dog and Cat Adoption Hours
DESCRIPTION:Come visit the Homeward Trails Adoption Center every Saturday and Sunday to meet great cats and dogs available for adoption.
URL:https://www.homewardtrails.org/event/dog-and-cat-adoption-hours/2024-05-11/
LOCATION:Homeward Trails Manny Law Adoption Center\, 11116 Fairfax Station Rd\, Fairfax Station\, VA\, 22039\, United States
CATEGORIES:Cat Adoption Events,Dog Adoption Events
END:VEVENT
BEGIN:VEVENT
DTSTART;TZID=America/New_York:20240511T120000
DTEND;TZID=America/New_York:20240511T140000
DTSTAMP:20260422T203251
CREATED:20240419T140538Z
LAST-MODIFIED:20240419T140538Z
UID:10001729-1715428800-1715436000@www.homewardtrails.org
SUMMARY:The Casual Pint Dunn Loring - Tap 4 Good Event - Fundraising and Dog Adoption Event!
DESCRIPTION:YOU are invited to join The Casual Pint and Homeward Trails as we raise funds for our homeless animals in need. A portion of all sales from 5/10-5/13 will be donated to Homeward Trails through the Tap 4 Good foundation\, so come grab a brew or two (or ten\, we don’t judge) for an AMAZING CAUSE! \nSome of our pups in need of a forever home will be there and ready to meet you on 5/11 from 12-2 PM. Please come on out and drink for a great cause\, you just might meet your new best friend too!
URL:https://www.homewardtrails.org/event/the-casual-pint-dunn-loring-tap-4-good-event-fundraising-and-dog-adoption-event/
LOCATION:The Casual Pint\, 2676 Avenir Pl.\, Unit F\, Vienna\, VA\, 22180
CATEGORIES:Dog Adoption Events,Fundraisers
END:VEVENT
BEGIN:VEVENT
DTSTART;TZID=America/New_York:20240512T100000
DTEND;TZID=America/New_York:20240512T160000
DTSTAMP:20260422T203251
CREATED:20230429T221503Z
LAST-MODIFIED:20250410T030057Z
UID:10000257-1715508000-1715529600@www.homewardtrails.org
SUMMARY:Dog and Cat Adoption Hours
DESCRIPTION:Come visit the Homeward Trails Adoption Center every Saturday and Sunday to meet great cats and dogs available for adoption.
URL:https://www.homewardtrails.org/event/dog-and-cat-adoption-hours/2024-05-12/
LOCATION:Homeward Trails Manny Law Adoption Center\, 11116 Fairfax Station Rd\, Fairfax Station\, VA\, 22039\, United States
CATEGORIES:Cat Adoption Events,Dog Adoption Events
END:VEVENT
BEGIN:VEVENT
DTSTART;TZID=America/New_York:20240518T100000
DTEND;TZID=America/New_York:20240518T160000
DTSTAMP:20260422T203251
CREATED:20230429T221503Z
LAST-MODIFIED:20250410T030057Z
UID:10000258-1716026400-1716048000@www.homewardtrails.org
SUMMARY:Dog and Cat Adoption Hours
DESCRIPTION:Come visit the Homeward Trails Adoption Center every Saturday and Sunday to meet great cats and dogs available for adoption.
URL:https://www.homewardtrails.org/event/dog-and-cat-adoption-hours/2024-05-18/
LOCATION:Homeward Trails Manny Law Adoption Center\, 11116 Fairfax Station Rd\, Fairfax Station\, VA\, 22039\, United States
CATEGORIES:Cat Adoption Events,Dog Adoption Events
END:VEVENT
BEGIN:VEVENT
DTSTART;TZID=America/New_York:20240519T100000
DTEND;TZID=America/New_York:20240519T160000
DTSTAMP:20260422T203251
CREATED:20230429T221503Z
LAST-MODIFIED:20250410T030057Z
UID:10000259-1716112800-1716134400@www.homewardtrails.org
SUMMARY:Dog and Cat Adoption Hours
DESCRIPTION:Come visit the Homeward Trails Adoption Center every Saturday and Sunday to meet great cats and dogs available for adoption.
URL:https://www.homewardtrails.org/event/dog-and-cat-adoption-hours/2024-05-19/
LOCATION:Homeward Trails Manny Law Adoption Center\, 11116 Fairfax Station Rd\, Fairfax Station\, VA\, 22039\, United States
CATEGORIES:Cat Adoption Events,Dog Adoption Events
END:VEVENT
BEGIN:VEVENT
DTSTART;TZID=America/New_York:20240519T130000
DTEND;TZID=America/New_York:20240519T160000
DTSTAMP:20260422T203251
CREATED:20240419T141303Z
LAST-MODIFIED:20240419T141303Z
UID:10001730-1716123600-1716134400@www.homewardtrails.org
SUMMARY:Braddock Bark
DESCRIPTION:Come see us at the 2024 Braddock Bark event at Lake Accotink on May 19th from 1-4 PM\, adoptable dogs will be on site with us! \nBraddock District Supervisor James Walkinshaw and The Friends of the Animal Shelter will be hosting this event at the McLaren Sargent Pavilion (Field) at Lake Accotink Park (5650 Heming Avenue\, Springfield\, VA 22151). Braddock Bark is a free event that will bring our community together to celebrate the love that we have for our furry friends!
URL:https://www.homewardtrails.org/event/braddock-bark-2/
LOCATION:Lake Accotink Park\, 5650 Heming Ave.\, Springfield\, VA\, 22151\, United States
CATEGORIES:Dog Adoption Events
END:VEVENT
BEGIN:VEVENT
DTSTART;TZID=America/New_York:20240521T180000
DTEND;TZID=America/New_York:20240521T190000
DTSTAMP:20260422T203251
CREATED:20231031T094440Z
LAST-MODIFIED:20231031T094542Z
UID:10000803-1716314400-1716318000@www.homewardtrails.org
SUMMARY:Puppy 101 Training
DESCRIPTION:Exclusively for our Homeward Trails puppy adopters! Join Jutka Terris\, CPDT-KA on Zoom\, to learn all about the basics of puppy training. \nYou can learn more about Jutka and her business PuppyK at https://www.puppyk.com/. \nJoin here.
URL:https://www.homewardtrails.org/event/puppy-101-2-2-2-2-2/2024-05-21/
LOCATION:Zoom\, VA\, United States
CATEGORIES:Orientations & Trainings
END:VEVENT
BEGIN:VEVENT
DTSTART;TZID=America/New_York:20240521T190000
DTEND;TZID=America/New_York:20240521T200000
DTSTAMP:20260422T203251
CREATED:20231031T093537Z
LAST-MODIFIED:20231031T093753Z
UID:10000863-1716318000-1716321600@www.homewardtrails.org
SUMMARY:Puppy 201 Training
DESCRIPTION:Exclusively for our Homeward Trails puppy adopters! Join Jutka Terris\, CPDT-KA on Zoom\, to learn all about the training your teenage puppy. \nYou can learn more about Jutka and her business PuppyK at https://www.puppyk.com/. \nJoin here.
URL:https://www.homewardtrails.org/event/puppy-201-training-2-2/2024-05-21/
LOCATION:Zoom\, VA\, United States
CATEGORIES:Orientations & Trainings
END:VEVENT
BEGIN:VEVENT
DTSTART;TZID=America/New_York:20240525T100000
DTEND;TZID=America/New_York:20240525T160000
DTSTAMP:20260422T203251
CREATED:20230429T221503Z
LAST-MODIFIED:20250410T030057Z
UID:10000260-1716631200-1716652800@www.homewardtrails.org
SUMMARY:Dog and Cat Adoption Hours
DESCRIPTION:Come visit the Homeward Trails Adoption Center every Saturday and Sunday to meet great cats and dogs available for adoption.
URL:https://www.homewardtrails.org/event/dog-and-cat-adoption-hours/2024-05-25/
LOCATION:Homeward Trails Manny Law Adoption Center\, 11116 Fairfax Station Rd\, Fairfax Station\, VA\, 22039\, United States
CATEGORIES:Cat Adoption Events,Dog Adoption Events
END:VEVENT
BEGIN:VEVENT
DTSTART;TZID=America/New_York:20240526T100000
DTEND;TZID=America/New_York:20240526T160000
DTSTAMP:20260422T203251
CREATED:20230429T221503Z
LAST-MODIFIED:20250410T030057Z
UID:10000261-1716717600-1716739200@www.homewardtrails.org
SUMMARY:Dog and Cat Adoption Hours
DESCRIPTION:Come visit the Homeward Trails Adoption Center every Saturday and Sunday to meet great cats and dogs available for adoption.
URL:https://www.homewardtrails.org/event/dog-and-cat-adoption-hours/2024-05-26/
LOCATION:Homeward Trails Manny Law Adoption Center\, 11116 Fairfax Station Rd\, Fairfax Station\, VA\, 22039\, United States
CATEGORIES:Cat Adoption Events,Dog Adoption Events
END:VEVENT
BEGIN:VEVENT
DTSTART;TZID=America/New_York:20240530T190000
DTEND;TZID=America/New_York:20240530T200000
DTSTAMP:20260422T203251
CREATED:20230920T162607Z
LAST-MODIFIED:20230920T162629Z
UID:10001043-1717095600-1717099200@www.homewardtrails.org
SUMMARY:Zoom Dog Training - Topics Vary
DESCRIPTION:Help your adopted pup thrive! Join us for rotating dog training topics with Kathleen Alvania\, CPDT-KA. \nLearn more about Kathleen and her business Treats and Triumphs here https://treatsandtriumphs.com/ \nJoin the training here.\nMeeting ID: 880 4477 2090
URL:https://www.homewardtrails.org/event/zoom-dog-training-topics-vary/2024-05-30/
LOCATION:VA
CATEGORIES:Orientations & Trainings
END:VEVENT
END:VCALENDAR