BEGIN:VCALENDAR
VERSION:2.0
PRODID:-//Homeward Trails Animal Rescue | Pet Adoption in VA, DC, MD - ECPv6.15.20//NONSGML v1.0//EN
CALSCALE:GREGORIAN
METHOD:PUBLISH
X-ORIGINAL-URL:https://www.homewardtrails.org
X-WR-CALDESC:Events for Homeward Trails Animal Rescue | Pet Adoption in VA, DC, MD
REFRESH-INTERVAL;VALUE=DURATION:PT1H
X-Robots-Tag:noindex
X-PUBLISHED-TTL:PT1H
BEGIN:VTIMEZONE
TZID:America/New_York
BEGIN:DAYLIGHT
TZOFFSETFROM:-0500
TZOFFSETTO:-0400
TZNAME:EDT
DTSTART:20250309T070000
END:DAYLIGHT
BEGIN:STANDARD
TZOFFSETFROM:-0400
TZOFFSETTO:-0500
TZNAME:EST
DTSTART:20251102T060000
END:STANDARD
BEGIN:DAYLIGHT
TZOFFSETFROM:-0500
TZOFFSETTO:-0400
TZNAME:EDT
DTSTART:20260308T070000
END:DAYLIGHT
BEGIN:STANDARD
TZOFFSETFROM:-0400
TZOFFSETTO:-0500
TZNAME:EST
DTSTART:20261101T060000
END:STANDARD
BEGIN:DAYLIGHT
TZOFFSETFROM:-0500
TZOFFSETTO:-0400
TZNAME:EDT
DTSTART:20270314T070000
END:DAYLIGHT
BEGIN:STANDARD
TZOFFSETFROM:-0400
TZOFFSETTO:-0500
TZNAME:EST
DTSTART:20271107T060000
END:STANDARD
END:VTIMEZONE
BEGIN:VEVENT
DTSTART;TZID=America/New_York:20260508T100000
DTEND;TZID=America/New_York:20260508T120000
DTSTAMP:20260423T012450
CREATED:20260307T011737Z
LAST-MODIFIED:20260307T011737Z
UID:10002885-1778234400-1778241600@www.homewardtrails.org
SUMMARY:Dog Yoga - Poses with Pups
DESCRIPTION:Join the sweetest dogs for a tail wagging good time at the Homeward Trails Animal Rescue Trails Home Farm in Delaplane\, VA on Friday\, May 8 from 10:00am – 12:00pm. \nEnjoy a fun all levels ‘Dog Yoga ~ Poses with Pups’ class with the dogs joining us with their wagging tails\, playfulness\, snuggles\, and sweet kisses. After the 1-hour Yoga class\, we will be able to enjoy an additional hour of playful toy time\, snuggles\, leash walks\, cuddles\, fetch\, and lots of love. Our peaceful energy\, loving attention\, playful interaction\, and gentle affection will be wonderfully beneficial for the dogs as they await adoption into their forever homes. \nThe cost is $30 which supports the incredible mission of Homeward Trails Animal Rescue at both their Delaplane and Fairfax Station locations. \nPlease join us and enjoy a day surrounded by beautiful mountains\, only one hour outside of the DC Metro area\, and support Homeward Trails Animal Rescue and the dogs in their care. \nAfter ‘Dog Yoga ~ Poses with Pups’ enjoy a packed lunch or delicious homemade pizza made by Wood Fired Foods\, as well as award-winning beverages\, at Three Fox Vineyard who won first place for Winery of the Year in the Northern Virginia Magazine ‘Best of NOVA’ for 2025. Three Fox Vineyards will generously donate 10% of the sales from our group that day to Homeward Trails Animal Rescue. \nSpace is limited and you don’t want to miss this fun and unique event that supports Homeward Trails Animal Rescue and their mission to provide the feeding\, veterinary services\, and incredible care for the dogs awaiting adoption at Trails Home Farm. \nTo register and secure your spot\, please email Angela Hart at angela.irtci@verizon.net or fill out the contact form at https://www.dreamcatchermovementandwellness.com
URL:https://www.homewardtrails.org/event/dog-yoga-poses-with-pups-3/
LOCATION:Trails Home Farm\, 2581 Winchester Rd\, Delaplane\, VA\, 20144\, United States
ATTACH;FMTTYPE=image/jpeg:https://www.homewardtrails.org/wp-content/uploads/2025/06/dogyoga-scaled.jpg
END:VEVENT
END:VCALENDAR